BEGIN:VCALENDAR
VERSION:2.0
PRODID:-//Sneem - ECPv4.0.7//NONSGML v1.0//EN
CALSCALE:GREGORIAN
METHOD:PUBLISH
X-WR-CALNAME:Sneem
X-ORIGINAL-URL:http://sneem.ie
X-WR-CALDESC:Events for Sneem
BEGIN:VEVENT
DTSTART;TZID="Europe/London":20170317T121500
DTEND;TZID="Europe/London":20170317T230000
DTSTAMP:20171106T082110
CREATED:20170215T140219
LAST-MODIFIED:20170316T112726
UID:972-1489752900-1489791600@sneem.ie
SUMMARY:St. Patrick's Day Parade and Fair Day
DESCRIPTION:Join the fun in Sneem on one of the busiest days of the year with the annual Fair Day and the St. Patrick's Day parade.\n\nThis year’s parade will be starting from the Quay Road at 12noon. Floats are asked to assemble from 11.30am for judges to view.  From the Quay Road it will make its way past Mace to Sneem Pharmacy\, turning left and passing Murphy’s Bar up to the bridge\, following up Bridge Street to finish at Stone House Corner.\n\nDrinks and a snack will be provided for participants after the parade at the Resource Centre.   Prize giving will take place in the South Square at 2pm.\n\nThere will also be a prize for the Best Window Display.\n\nContact us by private message on the Sneem Summer Festival Facebook page or email sneemfestival@outlook.com\n\n 
URL:http://sneem.ie/event/st-patricks-day-parade-fair-day-2/
LOCATION:Sneem\, Kerry\, Ireland
CATEGORIES:Drama,Entertainment,Music
ATTACH;FMTTYPE=image/jpeg:http://sneem.ie/wp-content/uploads/13776_10204773021300145_8838113633640807421_n.jpg
ORGANIZER;CN="Sneem%20Summer%20Festival%20Committee":MAILTO:sneemfestival@outlook.com
END:VEVENT
END:VCALENDAR