BEGIN:VCALENDAR
VERSION:2.0
PRODID:-//Sneem - ECPv4.0.7//NONSGML v1.0//EN
CALSCALE:GREGORIAN
METHOD:PUBLISH
X-WR-CALNAME:Sneem
X-ORIGINAL-URL:http://sneem.ie
X-WR-CALDESC:Events for Sneem
BEGIN:VEVENT
DTSTART;VALUE=DATE:20170719
DTEND;VALUE=DATE:20170719
DTSTAMP:20171106T082043
CREATED:20170428
LAST-MODIFIED:20170707
UID:1011-1500422400-1500508799@sneem.ie
SUMMARY:Sneem Summer Festival
DESCRIPTION:Wednesday 19th July\n\n1 - 4pm        Green Energy\n\n                      North Square.  Bee Keeper and Gardening Club (grey water).\n\n2pm              Sneem River Run / Kayak Safari\n\n2 hrs. Cost: €25 single Kayak\, €35  double. Start in Sneem and ends at Oysterbed. With a boat trip back.   All Life Jackets and Safety Equipment provided\, along with safety boats and safety personnel.  Contact: Noel 087 9474616.\n\n2 - 4pm Archery\n\nParknasilla Archery. Cost: €5 per person. Book at the Events Office. Age:13+.\n\n4pm Children’s Fancy Dress\n\nMeet at the Festival Stage.\n\nCost: Free.\n\n6pm Blessing\n\nFestival Blessing by Fr. O’Brien.\n\nFestival Marquee.\n\n6 - 8pm Children’s Bouncy Castle\n\nNorth Square Fair Green.\n\n6 - 8pm Barbeque\n\nFestival Tent. Adults €10\, Children €5\, Discounts for families.\n\n7pm Turbett’s Fun Fair\n\nSouth Square.\n\n 
URL:http://sneem.ie/event/sneem-summer-festival/
LOCATION:Sneem\, Kerry\, Ireland
CATEGORIES:Drama,Entertainment,Music,Sport
ATTACH;FMTTYPE=image/jpeg:http://sneem.ie/wp-content/uploads/summerfestivallogo.jpg
ORGANIZER;CN="Sneem%20Summer%20Festival%20Committee":MAILTO:sneemfestival@outlook.com
END:VEVENT
END:VCALENDAR