BEGIN:VCALENDAR
VERSION:2.0
PRODID:-//Sneem - ECPv4.0.7//NONSGML v1.0//EN
CALSCALE:GREGORIAN
METHOD:PUBLISH
X-WR-CALNAME:Sneem
X-ORIGINAL-URL:http://sneem.ie
X-WR-CALDESC:Events for Sneem
BEGIN:VEVENT
DTSTART;VALUE=DATE:20171110
DTEND;VALUE=DATE:20171112
DTSTAMP:20171106T081216
CREATED:20170428
LAST-MODIFIED:20170428
UID:1016-1510272000-1510531199@sneem.ie
SUMMARY:Sneem International Storytelling and Folklore Festival
DESCRIPTION:
URL:http://sneem.ie/event/sneem-storytelling-festival-2/
LOCATION:Sneem\, Kerry\, Ireland
CATEGORIES:Drama,Entertainment,Music
ATTACH;FMTTYPE=image/jpeg:http://sneem.ie/wp-content/uploads/2015/07/4569378066_164x161.jpg
ORGANIZER;CN="Sneem%20Storytelling%20Festival%20Committee":MAILTO:info@sneemstorytellingfestival.com
END:VEVENT
END:VCALENDAR