BEGIN:VCALENDAR
VERSION:2.0
PRODID:-//Sneem - ECPv4.0.7//NONSGML v1.0//EN
CALSCALE:GREGORIAN
METHOD:PUBLISH
X-WR-CALNAME:Sneem
X-ORIGINAL-URL:http://sneem.ie
X-WR-CALDESC:Events for Sneem
BEGIN:VEVENT
DTSTART;TZID="Europe/London":20171021T140000
DTEND;TZID="Europe/London":20171021T170000
DTSTAMP:20171106T081213
CREATED:20171006T103351
LAST-MODIFIED:20171006T103351
UID:1124-1508594400-1508605200@sneem.ie
SUMMARY:Sneem Community Crèche  Open Day
DESCRIPTION:Sneem Community Crèche are holding an Open Day on Saturday 21st October from 2pm to 5pm.  All Welcome.\n\n 
URL:http://sneem.ie/event/sneem-community-creche-open-day/
LOCATION:Sneem\, Kerry\, Ireland
END:VEVENT
END:VCALENDAR