BEGIN:VCALENDAR
VERSION:2.0
PRODID:-//Sneem - ECPv4.0.7//NONSGML v1.0//EN
CALSCALE:GREGORIAN
METHOD:PUBLISH
X-WR-CALNAME:Sneem
X-ORIGINAL-URL:http://sneem.ie
X-WR-CALDESC:Events for Sneem
BEGIN:VEVENT
DTSTART;TZID="Europe/London":20170509T110000
DTEND;TZID="Europe/London":20170509T140000
DTSTAMP:20171106T081551
CREATED:20170428T094055
LAST-MODIFIED:20170428T094856
UID:1004-1494327600-1494338400@sneem.ie
SUMMARY:Alzheimers Tea Day
DESCRIPTION:
URL:http://sneem.ie/event/alzheimers-tea-day-2/
LOCATION:North Square\, Sneem\, Ireland
ATTACH;FMTTYPE=image/jpeg:http://sneem.ie/wp-content/uploads/tea-day-alzheimers.jpg
ORGANIZER;CN="Sneem%20Resource%20Centre":MAILTO:sneemrc@gmail.com
END:VEVENT
END:VCALENDAR